BEGIN:VCALENDAR
VERSION:2.0
PRODID:-//Rodeph Sholom School - UWS Private Jewish Day School - ECPv6.15.18//NONSGML v1.0//EN
CALSCALE:GREGORIAN
METHOD:PUBLISH
X-WR-CALNAME:Rodeph Sholom School - UWS Private Jewish Day School
X-ORIGINAL-URL:https://www.rodephsholomschool.org
X-WR-CALDESC:Events for Rodeph Sholom School - UWS Private Jewish Day School
REFRESH-INTERVAL;VALUE=DURATION:PT1H
X-Robots-Tag:noindex
X-PUBLISHED-TTL:PT1H
BEGIN:VTIMEZONE
TZID:America/New_York
BEGIN:DAYLIGHT
TZOFFSETFROM:-0500
TZOFFSETTO:-0400
TZNAME:EDT
DTSTART:20240310T070000
END:DAYLIGHT
BEGIN:STANDARD
TZOFFSETFROM:-0400
TZOFFSETTO:-0500
TZNAME:EST
DTSTART:20241103T060000
END:STANDARD
BEGIN:DAYLIGHT
TZOFFSETFROM:-0500
TZOFFSETTO:-0400
TZNAME:EDT
DTSTART:20250309T070000
END:DAYLIGHT
BEGIN:STANDARD
TZOFFSETFROM:-0400
TZOFFSETTO:-0500
TZNAME:EST
DTSTART:20251102T060000
END:STANDARD
BEGIN:DAYLIGHT
TZOFFSETFROM:-0500
TZOFFSETTO:-0400
TZNAME:EDT
DTSTART:20260308T070000
END:DAYLIGHT
BEGIN:STANDARD
TZOFFSETFROM:-0400
TZOFFSETTO:-0500
TZNAME:EST
DTSTART:20261101T060000
END:STANDARD
END:VTIMEZONE
BEGIN:VEVENT
DTSTART;TZID=America/New_York:20250418T090000
DTEND;TZID=America/New_York:20250418T150000
DTSTAMP:20260422T102506
CREATED:20250130T181108Z
LAST-MODIFIED:20250220T201831Z
UID:10000532-1744966800-1744988400@www.rodephsholomschool.org
SUMMARY:Spring Day Camp: April Session
DESCRIPTION:LEARN MORE AND REGISTER \nRodeph Sholom School Spring Camps engage children ages Pre-K through 4th Grade through experiences that help build a positive sense of self\, strong peer relationships\, skill development in a range of areas\, and exposure to new and existing passions. We are a strong community that celebrates each individual. Our camp feels like home to all of our campers and staff.
URL:https://www.rodephsholomschool.org/event/april-session-spring-day-camp/2025-04-18/
LOCATION:Rodeph Sholom School Spring Day Camps\, 10024\, United States
CATEGORIES:Day Camps
ATTACH;FMTTYPE=image/png:https://www.rodephsholomschool.org/wp-content/uploads/2025/01/SpringCamps_green-hex009775.png
ORGANIZER;CN="Rodeph Sholom School Day Camps":MAILTO:camp@rssnyc.org
END:VEVENT
BEGIN:VEVENT
DTSTART;TZID=America/New_York:20250417T090000
DTEND;TZID=America/New_York:20250417T150000
DTSTAMP:20260422T102506
CREATED:20250130T181108Z
LAST-MODIFIED:20250220T201831Z
UID:10000531-1744880400-1744902000@www.rodephsholomschool.org
SUMMARY:Spring Day Camp: April Session
DESCRIPTION:LEARN MORE AND REGISTER \nRodeph Sholom School Spring Camps engage children ages Pre-K through 4th Grade through experiences that help build a positive sense of self\, strong peer relationships\, skill development in a range of areas\, and exposure to new and existing passions. We are a strong community that celebrates each individual. Our camp feels like home to all of our campers and staff.
URL:https://www.rodephsholomschool.org/event/april-session-spring-day-camp/2025-04-17/
LOCATION:Rodeph Sholom School Spring Day Camps\, 10024\, United States
CATEGORIES:Day Camps
ATTACH;FMTTYPE=image/png:https://www.rodephsholomschool.org/wp-content/uploads/2025/01/SpringCamps_green-hex009775.png
ORGANIZER;CN="Rodeph Sholom School Day Camps":MAILTO:camp@rssnyc.org
END:VEVENT
BEGIN:VEVENT
DTSTART;TZID=America/New_York:20250416T090000
DTEND;TZID=America/New_York:20250416T150000
DTSTAMP:20260422T102506
CREATED:20250130T181108Z
LAST-MODIFIED:20250220T201831Z
UID:10000530-1744794000-1744815600@www.rodephsholomschool.org
SUMMARY:Spring Day Camp: April Session
DESCRIPTION:LEARN MORE AND REGISTER \nRodeph Sholom School Spring Camps engage children ages Pre-K through 4th Grade through experiences that help build a positive sense of self\, strong peer relationships\, skill development in a range of areas\, and exposure to new and existing passions. We are a strong community that celebrates each individual. Our camp feels like home to all of our campers and staff.
URL:https://www.rodephsholomschool.org/event/april-session-spring-day-camp/2025-04-16/
LOCATION:Rodeph Sholom School Spring Day Camps\, 10024\, United States
CATEGORIES:Day Camps
ATTACH;FMTTYPE=image/png:https://www.rodephsholomschool.org/wp-content/uploads/2025/01/SpringCamps_green-hex009775.png
ORGANIZER;CN="Rodeph Sholom School Day Camps":MAILTO:camp@rssnyc.org
END:VEVENT
BEGIN:VEVENT
DTSTART;TZID=America/New_York:20250415T090000
DTEND;TZID=America/New_York:20250415T150000
DTSTAMP:20260422T102506
CREATED:20250130T181108Z
LAST-MODIFIED:20250220T201831Z
UID:10000529-1744707600-1744729200@www.rodephsholomschool.org
SUMMARY:Spring Day Camp: April Session
DESCRIPTION:LEARN MORE AND REGISTER \nRodeph Sholom School Spring Camps engage children ages Pre-K through 4th Grade through experiences that help build a positive sense of self\, strong peer relationships\, skill development in a range of areas\, and exposure to new and existing passions. We are a strong community that celebrates each individual. Our camp feels like home to all of our campers and staff.
URL:https://www.rodephsholomschool.org/event/april-session-spring-day-camp/2025-04-15/
LOCATION:Rodeph Sholom School Spring Day Camps\, 10024\, United States
CATEGORIES:Day Camps
ATTACH;FMTTYPE=image/png:https://www.rodephsholomschool.org/wp-content/uploads/2025/01/SpringCamps_green-hex009775.png
ORGANIZER;CN="Rodeph Sholom School Day Camps":MAILTO:camp@rssnyc.org
END:VEVENT
BEGIN:VEVENT
DTSTART;TZID=America/New_York:20250414T090000
DTEND;TZID=America/New_York:20250414T150000
DTSTAMP:20260422T102506
CREATED:20250130T181108Z
LAST-MODIFIED:20250220T201831Z
UID:10000528-1744621200-1744642800@www.rodephsholomschool.org
SUMMARY:Spring Day Camp: April Session
DESCRIPTION:LEARN MORE AND REGISTER \nRodeph Sholom School Spring Camps engage children ages Pre-K through 4th Grade through experiences that help build a positive sense of self\, strong peer relationships\, skill development in a range of areas\, and exposure to new and existing passions. We are a strong community that celebrates each individual. Our camp feels like home to all of our campers and staff.
URL:https://www.rodephsholomschool.org/event/april-session-spring-day-camp/2025-04-14/
LOCATION:Rodeph Sholom School Spring Day Camps\, 10024\, United States
CATEGORIES:Day Camps
ATTACH;FMTTYPE=image/png:https://www.rodephsholomschool.org/wp-content/uploads/2025/01/SpringCamps_green-hex009775.png
ORGANIZER;CN="Rodeph Sholom School Day Camps":MAILTO:camp@rssnyc.org
END:VEVENT
BEGIN:VEVENT
DTSTART;TZID=America/New_York:20250328T160000
DTEND;TZID=America/New_York:20250328T160000
DTSTAMP:20260422T102506
CREATED:20250130T190313Z
LAST-MODIFIED:20250220T202809Z
UID:10000534-1743177600-1743177600@www.rodephsholomschool.org
SUMMARY:Last Day to Register for April Spring Day Camp
DESCRIPTION:Registration for the April 14th – 18th session of Spring Day Camps closes at 4:00 pm. \nRegister Here
URL:https://www.rodephsholomschool.org/event/spring-day-camp-april-session-registration-closes/
CATEGORIES:Day Camps
ATTACH;FMTTYPE=image/png:https://www.rodephsholomschool.org/wp-content/uploads/2025/01/SpringCamps_green-hex009775.png
ORGANIZER;CN="Rodeph Sholom School Day Camps":MAILTO:camp@rssnyc.org
END:VEVENT
BEGIN:VEVENT
DTSTART;TZID=America/New_York:20250321T090000
DTEND;TZID=America/New_York:20250321T150000
DTSTAMP:20260422T102507
CREATED:20250130T175238Z
LAST-MODIFIED:20250220T194056Z
UID:10000522-1742547600-1742569200@www.rodephsholomschool.org
SUMMARY:Spring Day Camp: March Session
DESCRIPTION:LEARN MORE AND REGISTER \nRodeph Sholom School Spring Camps engage children ages Pre-K through 4th Grade through experiences that help build a positive sense of self\, strong peer relationships\, skill development in a range of areas\, and exposure to new and existing passions. We are a strong community that celebrates each individual. Our camp feels like home to all of our campers and staff.
URL:https://www.rodephsholomschool.org/event/spring-day-camp-march-session/2025-03-21/
LOCATION:Rodeph Sholom School Spring Day Camps\, 10024\, United States
CATEGORIES:Day Camps
ATTACH;FMTTYPE=image/png:https://www.rodephsholomschool.org/wp-content/uploads/2025/01/SpringCamps_green-hex009775.png
ORGANIZER;CN="Rodeph Sholom School Day Camps":MAILTO:camp@rssnyc.org
END:VEVENT
BEGIN:VEVENT
DTSTART;TZID=America/New_York:20250320T090000
DTEND;TZID=America/New_York:20250320T150000
DTSTAMP:20260422T102507
CREATED:20250130T175238Z
LAST-MODIFIED:20250220T194056Z
UID:10000521-1742461200-1742482800@www.rodephsholomschool.org
SUMMARY:Spring Day Camp: March Session
DESCRIPTION:LEARN MORE AND REGISTER \nRodeph Sholom School Spring Camps engage children ages Pre-K through 4th Grade through experiences that help build a positive sense of self\, strong peer relationships\, skill development in a range of areas\, and exposure to new and existing passions. We are a strong community that celebrates each individual. Our camp feels like home to all of our campers and staff.
URL:https://www.rodephsholomschool.org/event/spring-day-camp-march-session/2025-03-20/
LOCATION:Rodeph Sholom School Spring Day Camps\, 10024\, United States
CATEGORIES:Day Camps
ATTACH;FMTTYPE=image/png:https://www.rodephsholomschool.org/wp-content/uploads/2025/01/SpringCamps_green-hex009775.png
ORGANIZER;CN="Rodeph Sholom School Day Camps":MAILTO:camp@rssnyc.org
END:VEVENT
BEGIN:VEVENT
DTSTART;TZID=America/New_York:20250319T090000
DTEND;TZID=America/New_York:20250319T150000
DTSTAMP:20260422T102507
CREATED:20250130T175238Z
LAST-MODIFIED:20250220T194056Z
UID:10000520-1742374800-1742396400@www.rodephsholomschool.org
SUMMARY:Spring Day Camp: March Session
DESCRIPTION:LEARN MORE AND REGISTER \nRodeph Sholom School Spring Camps engage children ages Pre-K through 4th Grade through experiences that help build a positive sense of self\, strong peer relationships\, skill development in a range of areas\, and exposure to new and existing passions. We are a strong community that celebrates each individual. Our camp feels like home to all of our campers and staff.
URL:https://www.rodephsholomschool.org/event/spring-day-camp-march-session/2025-03-19/
LOCATION:Rodeph Sholom School Spring Day Camps\, 10024\, United States
CATEGORIES:Day Camps
ATTACH;FMTTYPE=image/png:https://www.rodephsholomschool.org/wp-content/uploads/2025/01/SpringCamps_green-hex009775.png
ORGANIZER;CN="Rodeph Sholom School Day Camps":MAILTO:camp@rssnyc.org
END:VEVENT
BEGIN:VEVENT
DTSTART;TZID=America/New_York:20250318T090000
DTEND;TZID=America/New_York:20250318T150000
DTSTAMP:20260422T102507
CREATED:20250130T175238Z
LAST-MODIFIED:20250220T194056Z
UID:10000519-1742288400-1742310000@www.rodephsholomschool.org
SUMMARY:Spring Day Camp: March Session
DESCRIPTION:LEARN MORE AND REGISTER \nRodeph Sholom School Spring Camps engage children ages Pre-K through 4th Grade through experiences that help build a positive sense of self\, strong peer relationships\, skill development in a range of areas\, and exposure to new and existing passions. We are a strong community that celebrates each individual. Our camp feels like home to all of our campers and staff.
URL:https://www.rodephsholomschool.org/event/spring-day-camp-march-session/2025-03-18/
LOCATION:Rodeph Sholom School Spring Day Camps\, 10024\, United States
CATEGORIES:Day Camps
ATTACH;FMTTYPE=image/png:https://www.rodephsholomschool.org/wp-content/uploads/2025/01/SpringCamps_green-hex009775.png
ORGANIZER;CN="Rodeph Sholom School Day Camps":MAILTO:camp@rssnyc.org
END:VEVENT
BEGIN:VEVENT
DTSTART;TZID=America/New_York:20250317T090000
DTEND;TZID=America/New_York:20250317T150000
DTSTAMP:20260422T102507
CREATED:20250130T175238Z
LAST-MODIFIED:20250220T194056Z
UID:10000518-1742202000-1742223600@www.rodephsholomschool.org
SUMMARY:Spring Day Camp: March Session
DESCRIPTION:LEARN MORE AND REGISTER \nRodeph Sholom School Spring Camps engage children ages Pre-K through 4th Grade through experiences that help build a positive sense of self\, strong peer relationships\, skill development in a range of areas\, and exposure to new and existing passions. We are a strong community that celebrates each individual. Our camp feels like home to all of our campers and staff.
URL:https://www.rodephsholomschool.org/event/spring-day-camp-march-session/2025-03-17/
LOCATION:Rodeph Sholom School Spring Day Camps\, 10024\, United States
CATEGORIES:Day Camps
ATTACH;FMTTYPE=image/png:https://www.rodephsholomschool.org/wp-content/uploads/2025/01/SpringCamps_green-hex009775.png
ORGANIZER;CN="Rodeph Sholom School Day Camps":MAILTO:camp@rssnyc.org
END:VEVENT
BEGIN:VEVENT
DTSTART;TZID=America/New_York:20250228T160000
DTEND;TZID=America/New_York:20250228T160000
DTSTAMP:20260422T102507
CREATED:20250130T190125Z
LAST-MODIFIED:20250220T202417Z
UID:10000533-1740758400-1740758400@www.rodephsholomschool.org
SUMMARY:Last Day to Register for March Spring Day Camp
DESCRIPTION:Registration for the March 17th – 21st session of Spring Day Camps closes at 4:00 pm. \nRegister Here
URL:https://www.rodephsholomschool.org/event/spring-day-camp-march-session-registration-closes/
LOCATION:Rodeph Sholom School Spring Day Camps\, 10024\, United States
CATEGORIES:Day Camps
ATTACH;FMTTYPE=image/png:https://www.rodephsholomschool.org/wp-content/uploads/2025/01/SpringCamps_green-hex009775.png
ORGANIZER;CN="Rodeph Sholom School Day Camps":MAILTO:camp@rssnyc.org
END:VEVENT
END:VCALENDAR