BEGIN:VCALENDAR
VERSION:2.0
PRODID:-//Rodeph Sholom School - UWS Private Jewish Day School - ECPv6.15.18//NONSGML v1.0//EN
CALSCALE:GREGORIAN
METHOD:PUBLISH
X-WR-CALNAME:Rodeph Sholom School - UWS Private Jewish Day School
X-ORIGINAL-URL:https://www.rodephsholomschool.org
X-WR-CALDESC:Events for Rodeph Sholom School - UWS Private Jewish Day School
REFRESH-INTERVAL;VALUE=DURATION:PT1H
X-Robots-Tag:noindex
X-PUBLISHED-TTL:PT1H
BEGIN:VTIMEZONE
TZID:America/New_York
BEGIN:DAYLIGHT
TZOFFSETFROM:-0500
TZOFFSETTO:-0400
TZNAME:EDT
DTSTART:20210314T070000
END:DAYLIGHT
BEGIN:STANDARD
TZOFFSETFROM:-0400
TZOFFSETTO:-0500
TZNAME:EST
DTSTART:20211107T060000
END:STANDARD
BEGIN:DAYLIGHT
TZOFFSETFROM:-0500
TZOFFSETTO:-0400
TZNAME:EDT
DTSTART:20220313T070000
END:DAYLIGHT
BEGIN:STANDARD
TZOFFSETFROM:-0400
TZOFFSETTO:-0500
TZNAME:EST
DTSTART:20221106T060000
END:STANDARD
BEGIN:DAYLIGHT
TZOFFSETFROM:-0500
TZOFFSETTO:-0400
TZNAME:EDT
DTSTART:20230312T070000
END:DAYLIGHT
BEGIN:STANDARD
TZOFFSETFROM:-0400
TZOFFSETTO:-0500
TZNAME:EST
DTSTART:20231105T060000
END:STANDARD
BEGIN:DAYLIGHT
TZOFFSETFROM:-0500
TZOFFSETTO:-0400
TZNAME:EDT
DTSTART:20240310T070000
END:DAYLIGHT
BEGIN:STANDARD
TZOFFSETFROM:-0400
TZOFFSETTO:-0500
TZNAME:EST
DTSTART:20241103T060000
END:STANDARD
END:VTIMEZONE
BEGIN:VEVENT
DTSTART;TZID=America/New_York:20230225T090000
DTEND;TZID=America/New_York:20230225T110000
DTSTAMP:20260422T062334
CREATED:20230213T174508Z
LAST-MODIFIED:20230327T172432Z
UID:10000223-1677315600-1677322800@www.rodephsholomschool.org
SUMMARY:Singin' Swingin' Shabbat
DESCRIPTION:For children 0-4 years\, siblings welcome\nCelebrate Shabbat with your Sprouts family! \nCome shake your sillies out at this 30-minute Shabbat sing-along\, make happy noise and meet other parents and clergy followed by playtime in our mini gym!
URL:https://www.rodephsholomschool.org/event/singin-swingin-shabbat/2023-02-25/
LOCATION:Congregation Rodeph Sholom\, 7 West 83rd Street\, New York\, NY\, 10024\, United States
CATEGORIES:Congregation Rodeph Sholom,Early Childhood Division
ATTACH;FMTTYPE=image/png:https://www.rodephsholomschool.org/wp-content/uploads/2023/02/Sprouts-SSS.png
END:VEVENT
BEGIN:VEVENT
DTSTART;VALUE=DATE:20230222
DTEND;VALUE=DATE:20230223
DTSTAMP:20260422T062335
CREATED:20221215T193557Z
LAST-MODIFIED:20221215T193557Z
UID:10000081-1677024000-1677110399@www.rodephsholomschool.org
SUMMARY:Classes Resume
DESCRIPTION:
URL:https://www.rodephsholomschool.org/event/classes-resume-2/
LOCATION:NY
CATEGORIES:Academic Calendar
END:VEVENT
BEGIN:VEVENT
DTSTART;VALUE=DATE:20230220
DTEND;VALUE=DATE:20230222
DTSTAMP:20260422T062335
CREATED:20221215T193431Z
LAST-MODIFIED:20221215T193431Z
UID:10000080-1676851200-1677023999@www.rodephsholomschool.org
SUMMARY:SCHOOL CLOSED: February Weekend
DESCRIPTION:
URL:https://www.rodephsholomschool.org/event/school-closed-february-weekend/
LOCATION:NY
CATEGORIES:Academic Calendar
END:VEVENT
BEGIN:VEVENT
DTSTART;TZID=America/New_York:20230218T090000
DTEND;TZID=America/New_York:20230218T110000
DTSTAMP:20260422T062335
CREATED:20230213T174508Z
LAST-MODIFIED:20230327T172432Z
UID:10000222-1676710800-1676718000@www.rodephsholomschool.org
SUMMARY:Singin' Swingin' Shabbat
DESCRIPTION:For children 0-4 years\, siblings welcome\nCelebrate Shabbat with your Sprouts family! \nCome shake your sillies out at this 30-minute Shabbat sing-along\, make happy noise and meet other parents and clergy followed by playtime in our mini gym!
URL:https://www.rodephsholomschool.org/event/singin-swingin-shabbat/2023-02-18/
LOCATION:Congregation Rodeph Sholom\, 7 West 83rd Street\, New York\, NY\, 10024\, United States
CATEGORIES:Congregation Rodeph Sholom,Early Childhood Division
ATTACH;FMTTYPE=image/png:https://www.rodephsholomschool.org/wp-content/uploads/2023/02/Sprouts-SSS.png
END:VEVENT
BEGIN:VEVENT
DTSTART;TZID=America/New_York:20230212T100000
DTEND;TZID=America/New_York:20230212T120000
DTSTAMP:20260422T062335
CREATED:20230106T182537Z
LAST-MODIFIED:20230213T180637Z
UID:10000106-1676196000-1676203200@www.rodephsholomschool.org
SUMMARY:Rodeph Sholom Family Service Day
DESCRIPTION:Check your email or sign into the School Portal for details and to register. Contact pa@rssnyc.org with questions.
URL:https://www.rodephsholomschool.org/event/rodeph-sholom-family-service-day/
LOCATION:NY
CATEGORIES:Parents Association Events
ATTACH;FMTTYPE=image/png:https://www.rodephsholomschool.org/wp-content/uploads/2023/01/RSS-Family-Service-Logo.png
END:VEVENT
BEGIN:VEVENT
DTSTART;TZID=America/New_York:20230211T090000
DTEND;TZID=America/New_York:20230211T110000
DTSTAMP:20260422T062335
CREATED:20230213T174508Z
LAST-MODIFIED:20230327T172432Z
UID:10000221-1676106000-1676113200@www.rodephsholomschool.org
SUMMARY:Singin' Swingin' Shabbat
DESCRIPTION:For children 0-4 years\, siblings welcome\nCelebrate Shabbat with your Sprouts family! \nCome shake your sillies out at this 30-minute Shabbat sing-along\, make happy noise and meet other parents and clergy followed by playtime in our mini gym!
URL:https://www.rodephsholomschool.org/event/singin-swingin-shabbat/2023-02-11/
LOCATION:Congregation Rodeph Sholom\, 7 West 83rd Street\, New York\, NY\, 10024\, United States
CATEGORIES:Congregation Rodeph Sholom,Early Childhood Division
ATTACH;FMTTYPE=image/png:https://www.rodephsholomschool.org/wp-content/uploads/2023/02/Sprouts-SSS.png
END:VEVENT
BEGIN:VEVENT
DTSTART;VALUE=DATE:20230206
DTEND;VALUE=DATE:20230207
DTSTAMP:20260422T062335
CREATED:20221215T201746Z
LAST-MODIFIED:20221215T201948Z
UID:10000098-1675641600-1675727999@www.rodephsholomschool.org
SUMMARY:Tu BiShvat
DESCRIPTION:Birthday of the Trees
URL:https://www.rodephsholomschool.org/event/tu-bishvat-3/
LOCATION:NY
CATEGORIES:Jewish Holidays
END:VEVENT
BEGIN:VEVENT
DTSTART;TZID=America/New_York:20230204T090000
DTEND;TZID=America/New_York:20230204T110000
DTSTAMP:20260422T062335
CREATED:20230213T174508Z
LAST-MODIFIED:20230327T172432Z
UID:10000220-1675501200-1675508400@www.rodephsholomschool.org
SUMMARY:Singin' Swingin' Shabbat
DESCRIPTION:For children 0-4 years\, siblings welcome\nCelebrate Shabbat with your Sprouts family! \nCome shake your sillies out at this 30-minute Shabbat sing-along\, make happy noise and meet other parents and clergy followed by playtime in our mini gym!
URL:https://www.rodephsholomschool.org/event/singin-swingin-shabbat/2023-02-04/
LOCATION:Congregation Rodeph Sholom\, 7 West 83rd Street\, New York\, NY\, 10024\, United States
CATEGORIES:Congregation Rodeph Sholom,Early Childhood Division
ATTACH;FMTTYPE=image/png:https://www.rodephsholomschool.org/wp-content/uploads/2023/02/Sprouts-SSS.png
END:VEVENT
BEGIN:VEVENT
DTSTART;TZID=America/New_York:20230128T090000
DTEND;TZID=America/New_York:20230128T110000
DTSTAMP:20260422T062335
CREATED:20230213T174508Z
LAST-MODIFIED:20230327T172432Z
UID:10000219-1674896400-1674903600@www.rodephsholomschool.org
SUMMARY:Singin' Swingin' Shabbat
DESCRIPTION:For children 0-4 years\, siblings welcome\nCelebrate Shabbat with your Sprouts family! \nCome shake your sillies out at this 30-minute Shabbat sing-along\, make happy noise and meet other parents and clergy followed by playtime in our mini gym!
URL:https://www.rodephsholomschool.org/event/singin-swingin-shabbat/2023-01-28/
LOCATION:Congregation Rodeph Sholom\, 7 West 83rd Street\, New York\, NY\, 10024\, United States
CATEGORIES:Congregation Rodeph Sholom,Early Childhood Division
ATTACH;FMTTYPE=image/png:https://www.rodephsholomschool.org/wp-content/uploads/2023/02/Sprouts-SSS.png
END:VEVENT
BEGIN:VEVENT
DTSTART;VALUE=DATE:20230127
DTEND;VALUE=DATE:20230128
DTSTAMP:20260422T062335
CREATED:20230106T182340Z
LAST-MODIFIED:20230106T182340Z
UID:10000105-1674777600-1674863999@www.rodephsholomschool.org
SUMMARY:Yom HaShoah 2023 / יוֹם הַשּׁוֹאָה 5783 Holocaust Memorial Day
DESCRIPTION:
URL:https://www.rodephsholomschool.org/event/yom-hashoah-2023-%d7%99%d7%95%d6%b9%d7%9d-%d7%94%d6%b7%d7%a9%d6%bc%d7%81%d7%95%d6%b9%d7%90%d6%b8%d7%94-5783-holocaust-memorial-day/
LOCATION:NY
CATEGORIES:Jewish Holidays
END:VEVENT
BEGIN:VEVENT
DTSTART;TZID=America/New_York:20230121T090000
DTEND;TZID=America/New_York:20230121T110000
DTSTAMP:20260422T062335
CREATED:20230213T174508Z
LAST-MODIFIED:20230327T172432Z
UID:10000218-1674291600-1674298800@www.rodephsholomschool.org
SUMMARY:Singin' Swingin' Shabbat
DESCRIPTION:For children 0-4 years\, siblings welcome\nCelebrate Shabbat with your Sprouts family! \nCome shake your sillies out at this 30-minute Shabbat sing-along\, make happy noise and meet other parents and clergy followed by playtime in our mini gym!
URL:https://www.rodephsholomschool.org/event/singin-swingin-shabbat/2023-01-21/
LOCATION:Congregation Rodeph Sholom\, 7 West 83rd Street\, New York\, NY\, 10024\, United States
CATEGORIES:Congregation Rodeph Sholom,Early Childhood Division
ATTACH;FMTTYPE=image/png:https://www.rodephsholomschool.org/wp-content/uploads/2023/02/Sprouts-SSS.png
END:VEVENT
BEGIN:VEVENT
DTSTART;VALUE=DATE:20230116
DTEND;VALUE=DATE:20230117
DTSTAMP:20260422T062335
CREATED:20221215T193321Z
LAST-MODIFIED:20221215T193321Z
UID:10000079-1673827200-1673913599@www.rodephsholomschool.org
SUMMARY:SCHOOL CLOSED: MLK Day
DESCRIPTION:
URL:https://www.rodephsholomschool.org/event/school-closed-mlk-day/
LOCATION:NY
CATEGORIES:Academic Calendar
END:VEVENT
BEGIN:VEVENT
DTSTART;TZID=America/New_York:20230114T090000
DTEND;TZID=America/New_York:20230114T110000
DTSTAMP:20260422T062335
CREATED:20230213T174508Z
LAST-MODIFIED:20230327T172432Z
UID:10000217-1673686800-1673694000@www.rodephsholomschool.org
SUMMARY:Singin' Swingin' Shabbat
DESCRIPTION:For children 0-4 years\, siblings welcome\nCelebrate Shabbat with your Sprouts family! \nCome shake your sillies out at this 30-minute Shabbat sing-along\, make happy noise and meet other parents and clergy followed by playtime in our mini gym!
URL:https://www.rodephsholomschool.org/event/singin-swingin-shabbat/2023-01-14/
LOCATION:Congregation Rodeph Sholom\, 7 West 83rd Street\, New York\, NY\, 10024\, United States
CATEGORIES:Congregation Rodeph Sholom,Early Childhood Division
ATTACH;FMTTYPE=image/png:https://www.rodephsholomschool.org/wp-content/uploads/2023/02/Sprouts-SSS.png
END:VEVENT
BEGIN:VEVENT
DTSTART;TZID=America/New_York:20230107T090000
DTEND;TZID=America/New_York:20230107T110000
DTSTAMP:20260422T062335
CREATED:20230213T174508Z
LAST-MODIFIED:20230327T172432Z
UID:10000216-1673082000-1673089200@www.rodephsholomschool.org
SUMMARY:Singin' Swingin' Shabbat
DESCRIPTION:For children 0-4 years\, siblings welcome\nCelebrate Shabbat with your Sprouts family! \nCome shake your sillies out at this 30-minute Shabbat sing-along\, make happy noise and meet other parents and clergy followed by playtime in our mini gym!
URL:https://www.rodephsholomschool.org/event/singin-swingin-shabbat/2023-01-07/
LOCATION:Congregation Rodeph Sholom\, 7 West 83rd Street\, New York\, NY\, 10024\, United States
CATEGORIES:Congregation Rodeph Sholom,Early Childhood Division
ATTACH;FMTTYPE=image/png:https://www.rodephsholomschool.org/wp-content/uploads/2023/02/Sprouts-SSS.png
END:VEVENT
BEGIN:VEVENT
DTSTART;VALUE=DATE:20230104
DTEND;VALUE=DATE:20230105
DTSTAMP:20260422T062335
CREATED:20221215T192834Z
LAST-MODIFIED:20221215T192834Z
UID:10000078-1672790400-1672876799@www.rodephsholomschool.org
SUMMARY:Classes Resume
DESCRIPTION:
URL:https://www.rodephsholomschool.org/event/classes-resume/
LOCATION:NY
CATEGORIES:Academic Calendar
END:VEVENT
BEGIN:VEVENT
DTSTART;VALUE=DATE:20230103
DTEND;VALUE=DATE:20230104
DTSTAMP:20260422T062335
CREATED:20221215T192803Z
LAST-MODIFIED:20221215T193018Z
UID:10000077-1672704000-1672790399@www.rodephsholomschool.org
SUMMARY:SCHOOL CLOSED: Professional Development Day for Faculty & Staff
DESCRIPTION:
URL:https://www.rodephsholomschool.org/event/professional-development-day-for-faculty-staff/
LOCATION:NY
CATEGORIES:Academic Calendar
END:VEVENT
BEGIN:VEVENT
DTSTART;TZID=America/New_York:20221231T090000
DTEND;TZID=America/New_York:20221231T110000
DTSTAMP:20260422T062335
CREATED:20230213T174508Z
LAST-MODIFIED:20230327T172432Z
UID:10000215-1672477200-1672484400@www.rodephsholomschool.org
SUMMARY:Singin' Swingin' Shabbat
DESCRIPTION:For children 0-4 years\, siblings welcome\nCelebrate Shabbat with your Sprouts family! \nCome shake your sillies out at this 30-minute Shabbat sing-along\, make happy noise and meet other parents and clergy followed by playtime in our mini gym!
URL:https://www.rodephsholomschool.org/event/singin-swingin-shabbat/2022-12-31/
LOCATION:Congregation Rodeph Sholom\, 7 West 83rd Street\, New York\, NY\, 10024\, United States
CATEGORIES:Congregation Rodeph Sholom,Early Childhood Division
ATTACH;FMTTYPE=image/png:https://www.rodephsholomschool.org/wp-content/uploads/2023/02/Sprouts-SSS.png
END:VEVENT
BEGIN:VEVENT
DTSTART;TZID=America/New_York:20221224T090000
DTEND;TZID=America/New_York:20221224T110000
DTSTAMP:20260422T062335
CREATED:20230213T174508Z
LAST-MODIFIED:20230327T172432Z
UID:10000214-1671872400-1671879600@www.rodephsholomschool.org
SUMMARY:Singin' Swingin' Shabbat
DESCRIPTION:For children 0-4 years\, siblings welcome\nCelebrate Shabbat with your Sprouts family! \nCome shake your sillies out at this 30-minute Shabbat sing-along\, make happy noise and meet other parents and clergy followed by playtime in our mini gym!
URL:https://www.rodephsholomschool.org/event/singin-swingin-shabbat/2022-12-24/
LOCATION:Congregation Rodeph Sholom\, 7 West 83rd Street\, New York\, NY\, 10024\, United States
CATEGORIES:Congregation Rodeph Sholom,Early Childhood Division
ATTACH;FMTTYPE=image/png:https://www.rodephsholomschool.org/wp-content/uploads/2023/02/Sprouts-SSS.png
END:VEVENT
BEGIN:VEVENT
DTSTART;VALUE=DATE:20221219
DTEND;VALUE=DATE:20221227
DTSTAMP:20260422T062335
CREATED:20221215T201301Z
LAST-MODIFIED:20221215T202012Z
UID:10000097-1671408000-1672099199@www.rodephsholomschool.org
SUMMARY:Chanukah
DESCRIPTION:(Begins sundown December 18th)
URL:https://www.rodephsholomschool.org/event/chanukah-3/
LOCATION:NY
CATEGORIES:Jewish Holidays
END:VEVENT
BEGIN:VEVENT
DTSTART;VALUE=DATE:20221219
DTEND;VALUE=DATE:20230103
DTSTAMP:20260422T062335
CREATED:20221215T185344Z
LAST-MODIFIED:20221215T193117Z
UID:10000075-1671408000-1672703999@www.rodephsholomschool.org
SUMMARY:SCHOOL CLOSED: Winter Recess
DESCRIPTION:
URL:https://www.rodephsholomschool.org/event/school-closed-winter-recess/
LOCATION:NY
CATEGORIES:Academic Calendar
END:VEVENT
BEGIN:VEVENT
DTSTART;TZID=America/New_York:20221217T090000
DTEND;TZID=America/New_York:20221217T110000
DTSTAMP:20260422T062335
CREATED:20230213T174508Z
LAST-MODIFIED:20230327T172432Z
UID:10000213-1671267600-1671274800@www.rodephsholomschool.org
SUMMARY:Singin' Swingin' Shabbat
DESCRIPTION:For children 0-4 years\, siblings welcome\nCelebrate Shabbat with your Sprouts family! \nCome shake your sillies out at this 30-minute Shabbat sing-along\, make happy noise and meet other parents and clergy followed by playtime in our mini gym!
URL:https://www.rodephsholomschool.org/event/singin-swingin-shabbat/2022-12-17/
LOCATION:Congregation Rodeph Sholom\, 7 West 83rd Street\, New York\, NY\, 10024\, United States
CATEGORIES:Congregation Rodeph Sholom,Early Childhood Division
ATTACH;FMTTYPE=image/png:https://www.rodephsholomschool.org/wp-content/uploads/2023/02/Sprouts-SSS.png
END:VEVENT
BEGIN:VEVENT
DTSTART;TZID=America/New_York:20221210T090000
DTEND;TZID=America/New_York:20221210T110000
DTSTAMP:20260422T062335
CREATED:20230213T174508Z
LAST-MODIFIED:20230327T172432Z
UID:10000212-1670662800-1670670000@www.rodephsholomschool.org
SUMMARY:Singin' Swingin' Shabbat
DESCRIPTION:For children 0-4 years\, siblings welcome\nCelebrate Shabbat with your Sprouts family! \nCome shake your sillies out at this 30-minute Shabbat sing-along\, make happy noise and meet other parents and clergy followed by playtime in our mini gym!
URL:https://www.rodephsholomschool.org/event/singin-swingin-shabbat/2022-12-10/
LOCATION:Congregation Rodeph Sholom\, 7 West 83rd Street\, New York\, NY\, 10024\, United States
CATEGORIES:Congregation Rodeph Sholom,Early Childhood Division
ATTACH;FMTTYPE=image/png:https://www.rodephsholomschool.org/wp-content/uploads/2023/02/Sprouts-SSS.png
END:VEVENT
BEGIN:VEVENT
DTSTART;TZID=America/New_York:20221203T090000
DTEND;TZID=America/New_York:20221203T110000
DTSTAMP:20260422T062335
CREATED:20230213T174508Z
LAST-MODIFIED:20230327T172432Z
UID:10000211-1670058000-1670065200@www.rodephsholomschool.org
SUMMARY:Singin' Swingin' Shabbat
DESCRIPTION:For children 0-4 years\, siblings welcome\nCelebrate Shabbat with your Sprouts family! \nCome shake your sillies out at this 30-minute Shabbat sing-along\, make happy noise and meet other parents and clergy followed by playtime in our mini gym!
URL:https://www.rodephsholomschool.org/event/singin-swingin-shabbat/2022-12-03/
LOCATION:Congregation Rodeph Sholom\, 7 West 83rd Street\, New York\, NY\, 10024\, United States
CATEGORIES:Congregation Rodeph Sholom,Early Childhood Division
ATTACH;FMTTYPE=image/png:https://www.rodephsholomschool.org/wp-content/uploads/2023/02/Sprouts-SSS.png
END:VEVENT
BEGIN:VEVENT
DTSTART;TZID=America/New_York:20221126T090000
DTEND;TZID=America/New_York:20221126T110000
DTSTAMP:20260422T062335
CREATED:20230213T174508Z
LAST-MODIFIED:20230327T172432Z
UID:10000210-1669453200-1669460400@www.rodephsholomschool.org
SUMMARY:Singin' Swingin' Shabbat
DESCRIPTION:For children 0-4 years\, siblings welcome\nCelebrate Shabbat with your Sprouts family! \nCome shake your sillies out at this 30-minute Shabbat sing-along\, make happy noise and meet other parents and clergy followed by playtime in our mini gym!
URL:https://www.rodephsholomschool.org/event/singin-swingin-shabbat/2022-11-26/
LOCATION:Congregation Rodeph Sholom\, 7 West 83rd Street\, New York\, NY\, 10024\, United States
CATEGORIES:Congregation Rodeph Sholom,Early Childhood Division
ATTACH;FMTTYPE=image/png:https://www.rodephsholomschool.org/wp-content/uploads/2023/02/Sprouts-SSS.png
END:VEVENT
BEGIN:VEVENT
DTSTART;VALUE=DATE:20221123
DTEND;VALUE=DATE:20221126
DTSTAMP:20260422T062335
CREATED:20221215T195145Z
LAST-MODIFIED:20221215T195145Z
UID:10000094-1669161600-1669420799@www.rodephsholomschool.org
SUMMARY:SCHOOL CLOSED: Thanksgiving
DESCRIPTION:
URL:https://www.rodephsholomschool.org/event/school-closed-thanksgiving/
LOCATION:NY
CATEGORIES:Academic Calendar
END:VEVENT
BEGIN:VEVENT
DTSTART;VALUE=DATE:20221123
DTEND;VALUE=DATE:20221124
DTSTAMP:20260422T062335
CREATED:20221215T201052Z
LAST-MODIFIED:20221215T201052Z
UID:10000095-1669161600-1669247999@www.rodephsholomschool.org
SUMMARY:Sigd
DESCRIPTION:
URL:https://www.rodephsholomschool.org/event/sigd/
LOCATION:NY
CATEGORIES:Jewish Holidays
END:VEVENT
BEGIN:VEVENT
DTSTART;TZID=America/New_York:20221119T090000
DTEND;TZID=America/New_York:20221119T110000
DTSTAMP:20260422T062335
CREATED:20230213T174508Z
LAST-MODIFIED:20230327T172432Z
UID:10000209-1668848400-1668855600@www.rodephsholomschool.org
SUMMARY:Singin' Swingin' Shabbat
DESCRIPTION:For children 0-4 years\, siblings welcome\nCelebrate Shabbat with your Sprouts family! \nCome shake your sillies out at this 30-minute Shabbat sing-along\, make happy noise and meet other parents and clergy followed by playtime in our mini gym!
URL:https://www.rodephsholomschool.org/event/singin-swingin-shabbat/2022-11-19/
LOCATION:Congregation Rodeph Sholom\, 7 West 83rd Street\, New York\, NY\, 10024\, United States
CATEGORIES:Congregation Rodeph Sholom,Early Childhood Division
ATTACH;FMTTYPE=image/png:https://www.rodephsholomschool.org/wp-content/uploads/2023/02/Sprouts-SSS.png
END:VEVENT
BEGIN:VEVENT
DTSTART;VALUE=DATE:20221118
DTEND;VALUE=DATE:20221119
DTSTAMP:20260422T062335
CREATED:20221215T195058Z
LAST-MODIFIED:20221215T195058Z
UID:10000093-1668729600-1668815999@www.rodephsholomschool.org
SUMMARY:SCHOOL CLOSED: Parent-Teacher Conferences
DESCRIPTION:
URL:https://www.rodephsholomschool.org/event/school-closed-parent-teacher-conferences-2/
LOCATION:NY
CATEGORIES:Academic Calendar
END:VEVENT
BEGIN:VEVENT
DTSTART;TZID=America/New_York:20221112T090000
DTEND;TZID=America/New_York:20221112T110000
DTSTAMP:20260422T062335
CREATED:20230213T174508Z
LAST-MODIFIED:20230327T172432Z
UID:10000208-1668243600-1668250800@www.rodephsholomschool.org
SUMMARY:Singin' Swingin' Shabbat
DESCRIPTION:For children 0-4 years\, siblings welcome\nCelebrate Shabbat with your Sprouts family! \nCome shake your sillies out at this 30-minute Shabbat sing-along\, make happy noise and meet other parents and clergy followed by playtime in our mini gym!
URL:https://www.rodephsholomschool.org/event/singin-swingin-shabbat/2022-11-12/
LOCATION:Congregation Rodeph Sholom\, 7 West 83rd Street\, New York\, NY\, 10024\, United States
CATEGORIES:Congregation Rodeph Sholom,Early Childhood Division
ATTACH;FMTTYPE=image/png:https://www.rodephsholomschool.org/wp-content/uploads/2023/02/Sprouts-SSS.png
END:VEVENT
BEGIN:VEVENT
DTSTART;TZID=America/New_York:20221105T090000
DTEND;TZID=America/New_York:20221105T110000
DTSTAMP:20260422T062335
CREATED:20230213T174508Z
LAST-MODIFIED:20230327T172432Z
UID:10000207-1667638800-1667646000@www.rodephsholomschool.org
SUMMARY:Singin' Swingin' Shabbat
DESCRIPTION:For children 0-4 years\, siblings welcome\nCelebrate Shabbat with your Sprouts family! \nCome shake your sillies out at this 30-minute Shabbat sing-along\, make happy noise and meet other parents and clergy followed by playtime in our mini gym!
URL:https://www.rodephsholomschool.org/event/singin-swingin-shabbat/2022-11-05/
LOCATION:Congregation Rodeph Sholom\, 7 West 83rd Street\, New York\, NY\, 10024\, United States
CATEGORIES:Congregation Rodeph Sholom,Early Childhood Division
ATTACH;FMTTYPE=image/png:https://www.rodephsholomschool.org/wp-content/uploads/2023/02/Sprouts-SSS.png
END:VEVENT
END:VCALENDAR