BEGIN:VCALENDAR
VERSION:2.0
PRODID:-//Rodeph Sholom School - UWS Private Jewish Day School - ECPv6.15.18//NONSGML v1.0//EN
CALSCALE:GREGORIAN
METHOD:PUBLISH
X-WR-CALNAME:Rodeph Sholom School - UWS Private Jewish Day School
X-ORIGINAL-URL:https://www.rodephsholomschool.org
X-WR-CALDESC:Events for Rodeph Sholom School - UWS Private Jewish Day School
REFRESH-INTERVAL;VALUE=DURATION:PT1H
X-Robots-Tag:noindex
X-PUBLISHED-TTL:PT1H
BEGIN:VTIMEZONE
TZID:UTC
BEGIN:STANDARD
TZOFFSETFROM:+0000
TZOFFSETTO:+0000
TZNAME:UTC
DTSTART:20200101T000000
END:STANDARD
END:VTIMEZONE
BEGIN:VEVENT
DTSTART;TZID=UTC:20220218T080000
DTEND;TZID=UTC:20220218T170000
DTSTAMP:20260420T105635
CREATED:20210823T170608Z
LAST-MODIFIED:20210823T170608Z
UID:10000018-1645171200-1645203600@www.rodephsholomschool.org
SUMMARY:Regular dismissal - February Break
DESCRIPTION:
URL:https://www.rodephsholomschool.org/event/regular-dismissal-february-break/
END:VEVENT
BEGIN:VEVENT
DTSTART;TZID=UTC:20220118T080000
DTEND;TZID=UTC:20220118T170000
DTSTAMP:20260420T105635
CREATED:20210823T170511Z
LAST-MODIFIED:20210823T170511Z
UID:10000052-1642492800-1642525200@www.rodephsholomschool.org
SUMMARY:School Closed - Faculty Professional Development Day
DESCRIPTION:
URL:https://www.rodephsholomschool.org/event/school-closed-faculty-professional-development-day-2/
END:VEVENT
BEGIN:VEVENT
DTSTART;TZID=UTC:20220118T080000
DTEND;TZID=UTC:20220118T170000
DTSTAMP:20260420T105635
CREATED:20210823T170511Z
LAST-MODIFIED:20210823T170511Z
UID:10000015-1642492800-1642525200@www.rodephsholomschool.org
SUMMARY:School Closed - Faculty Professional Development Day
DESCRIPTION:
URL:https://www.rodephsholomschool.org/event/school-closed-faculty-professional-development-day/
END:VEVENT
BEGIN:VEVENT
DTSTART;TZID=UTC:20220117T080000
DTEND;TZID=UTC:20220117T170000
DTSTAMP:20260420T105635
CREATED:20210823T170341Z
LAST-MODIFIED:20210823T170341Z
UID:10000050-1642406400-1642438800@www.rodephsholomschool.org
SUMMARY:School Closed - MLK Jr. Day (Tu BiShvat)
DESCRIPTION:
URL:https://www.rodephsholomschool.org/event/school-closed-mlk-jr-day-tu-bishvat-2/
END:VEVENT
BEGIN:VEVENT
DTSTART;TZID=UTC:20220117T080000
DTEND;TZID=UTC:20220117T170000
DTSTAMP:20260420T105635
CREATED:20210823T170341Z
LAST-MODIFIED:20210823T170341Z
UID:10000013-1642406400-1642438800@www.rodephsholomschool.org
SUMMARY:School Closed - MLK Jr. Day (Tu BiShvat)
DESCRIPTION:
URL:https://www.rodephsholomschool.org/event/school-closed-mlk-jr-day-tu-bishvat/
END:VEVENT
BEGIN:VEVENT
DTSTART;VALUE=DATE:20220117
DTEND;VALUE=DATE:20220118
DTSTAMP:20260420T105635
CREATED:20210831T032609Z
LAST-MODIFIED:20210831T032609Z
UID:10000061-1642377600-1642463999@www.rodephsholomschool.org
SUMMARY:Tu BiShvat
DESCRIPTION:
URL:https://www.rodephsholomschool.org/event/tu-bishvat-2/
END:VEVENT
BEGIN:VEVENT
DTSTART;VALUE=DATE:20220117
DTEND;VALUE=DATE:20220118
DTSTAMP:20260420T105635
CREATED:20210831T032609Z
LAST-MODIFIED:20210831T032609Z
UID:10000024-1642377600-1642463999@www.rodephsholomschool.org
SUMMARY:Tu BiShvat
DESCRIPTION:
URL:https://www.rodephsholomschool.org/event/tu-bishvat/
END:VEVENT
BEGIN:VEVENT
DTSTART;VALUE=DATE:20211217
DTEND;VALUE=DATE:20211218
DTSTAMP:20260420T105635
CREATED:20210823T165823Z
LAST-MODIFIED:20210823T165823Z
UID:10000048-1639699200-1639785599@www.rodephsholomschool.org
SUMMARY:Regular dismissal - Winter Recess
DESCRIPTION:
URL:https://www.rodephsholomschool.org/event/regular-dismissal-winter-recess-2/
END:VEVENT
BEGIN:VEVENT
DTSTART;VALUE=DATE:20211217
DTEND;VALUE=DATE:20211218
DTSTAMP:20260420T105635
CREATED:20210823T165823Z
LAST-MODIFIED:20210823T165823Z
UID:10000011-1639699200-1639785599@www.rodephsholomschool.org
SUMMARY:Regular dismissal - Winter Recess
DESCRIPTION:
URL:https://www.rodephsholomschool.org/event/regular-dismissal-winter-recess/
END:VEVENT
BEGIN:VEVENT
DTSTART;VALUE=DATE:20211128
DTEND;VALUE=DATE:20211207
DTSTAMP:20260420T105635
CREATED:20210831T032530Z
LAST-MODIFIED:20210831T032530Z
UID:10000060-1638057600-1638835199@www.rodephsholomschool.org
SUMMARY:Chanukah
DESCRIPTION:
URL:https://www.rodephsholomschool.org/event/chanukah-2/
END:VEVENT
BEGIN:VEVENT
DTSTART;VALUE=DATE:20211128
DTEND;VALUE=DATE:20211207
DTSTAMP:20260420T105635
CREATED:20210831T032530Z
LAST-MODIFIED:20210831T032530Z
UID:10000023-1638057600-1638835199@www.rodephsholomschool.org
SUMMARY:Chanukah
DESCRIPTION:
URL:https://www.rodephsholomschool.org/event/chanukah/
END:VEVENT
BEGIN:VEVENT
DTSTART;VALUE=DATE:20211124
DTEND;VALUE=DATE:20211127
DTSTAMP:20260420T105635
CREATED:20210823T155838Z
LAST-MODIFIED:20210823T155838Z
UID:10000044-1637712000-1637971199@www.rodephsholomschool.org
SUMMARY:School Closed - Thanksgiving Recess
DESCRIPTION:
URL:https://www.rodephsholomschool.org/event/school-closed-thanksgiving-recess-2/
END:VEVENT
BEGIN:VEVENT
DTSTART;VALUE=DATE:20211124
DTEND;VALUE=DATE:20211127
DTSTAMP:20260420T105635
CREATED:20210823T155838Z
LAST-MODIFIED:20210823T155838Z
UID:10000007-1637712000-1637971199@www.rodephsholomschool.org
SUMMARY:School Closed - Thanksgiving Recess
DESCRIPTION:
URL:https://www.rodephsholomschool.org/event/school-closed-thanksgiving-recess/
END:VEVENT
BEGIN:VEVENT
DTSTART;TZID=UTC:20211011T080000
DTEND;TZID=UTC:20211011T170000
DTSTAMP:20260420T105635
CREATED:20210823T155725Z
LAST-MODIFIED:20210823T155725Z
UID:10000042-1633939200-1633971600@www.rodephsholomschool.org
SUMMARY:School Closed - Fall Weekend
DESCRIPTION:
URL:https://www.rodephsholomschool.org/event/school-closed-fall-weekend-2/
END:VEVENT
BEGIN:VEVENT
DTSTART;TZID=UTC:20211011T080000
DTEND;TZID=UTC:20211011T170000
DTSTAMP:20260420T105635
CREATED:20210823T155725Z
LAST-MODIFIED:20210823T155725Z
UID:10000005-1633939200-1633971600@www.rodephsholomschool.org
SUMMARY:School Closed - Fall Weekend
DESCRIPTION:
URL:https://www.rodephsholomschool.org/event/school-closed-fall-weekend/
END:VEVENT
BEGIN:VEVENT
DTSTART;TZID=UTC:20210928T080000
DTEND;TZID=UTC:20210928T170000
DTSTAMP:20260420T105635
CREATED:20210823T155638Z
LAST-MODIFIED:20210823T155638Z
UID:10000041-1632816000-1632848400@www.rodephsholomschool.org
SUMMARY:School Closed - Simchat Torah
DESCRIPTION:
URL:https://www.rodephsholomschool.org/event/school-closed-simchat-torah-2/
END:VEVENT
BEGIN:VEVENT
DTSTART;TZID=UTC:20210928T080000
DTEND;TZID=UTC:20210928T170000
DTSTAMP:20260420T105635
CREATED:20210823T155638Z
LAST-MODIFIED:20210823T155638Z
UID:10000004-1632816000-1632848400@www.rodephsholomschool.org
SUMMARY:School Closed - Simchat Torah
DESCRIPTION:
URL:https://www.rodephsholomschool.org/event/school-closed-simchat-torah/
END:VEVENT
BEGIN:VEVENT
DTSTART;TZID=UTC:20210921T080000
DTEND;TZID=UTC:20210921T170000
DTSTAMP:20260420T105635
CREATED:20210823T170547Z
LAST-MODIFIED:20210823T170547Z
UID:10000054-1632211200-1632243600@www.rodephsholomschool.org
SUMMARY:School Closed - Sukkot
DESCRIPTION:
URL:https://www.rodephsholomschool.org/event/school-closed-sukkot-2/
END:VEVENT
BEGIN:VEVENT
DTSTART;TZID=UTC:20210921T080000
DTEND;TZID=UTC:20210921T170000
DTSTAMP:20260420T105635
CREATED:20210823T170547Z
LAST-MODIFIED:20210823T170547Z
UID:10000017-1632211200-1632243600@www.rodephsholomschool.org
SUMMARY:School Closed - Sukkot
DESCRIPTION:
URL:https://www.rodephsholomschool.org/event/school-closed-sukkot/
END:VEVENT
BEGIN:VEVENT
DTSTART;VALUE=DATE:20210921
DTEND;VALUE=DATE:20210928
DTSTAMP:20260420T105635
CREATED:20210831T032335Z
LAST-MODIFIED:20210831T032335Z
UID:10000059-1632182400-1632787199@www.rodephsholomschool.org
SUMMARY:Sukkot
DESCRIPTION:
URL:https://www.rodephsholomschool.org/event/sukkot-2/
END:VEVENT
BEGIN:VEVENT
DTSTART;VALUE=DATE:20210921
DTEND;VALUE=DATE:20210928
DTSTAMP:20260420T105635
CREATED:20210831T032335Z
LAST-MODIFIED:20210831T032335Z
UID:10000022-1632182400-1632787199@www.rodephsholomschool.org
SUMMARY:Sukkot
DESCRIPTION:
URL:https://www.rodephsholomschool.org/event/sukkot/
END:VEVENT
BEGIN:VEVENT
DTSTART;TZID=UTC:20210916T080000
DTEND;TZID=UTC:20210916T170000
DTSTAMP:20260420T105635
CREATED:20210823T170431Z
LAST-MODIFIED:20210823T170431Z
UID:10000051-1631779200-1631811600@www.rodephsholomschool.org
SUMMARY:School Closed - Yom Kippur
DESCRIPTION:
URL:https://www.rodephsholomschool.org/event/school-closed-yom-kippur-2/
END:VEVENT
BEGIN:VEVENT
DTSTART;TZID=UTC:20210916T080000
DTEND;TZID=UTC:20210916T170000
DTSTAMP:20260420T105635
CREATED:20210823T170431Z
LAST-MODIFIED:20210823T170431Z
UID:10000014-1631779200-1631811600@www.rodephsholomschool.org
SUMMARY:School Closed - Yom Kippur
DESCRIPTION:
URL:https://www.rodephsholomschool.org/event/school-closed-yom-kippur/
END:VEVENT
BEGIN:VEVENT
DTSTART;VALUE=DATE:20210916
DTEND;VALUE=DATE:20210917
DTSTAMP:20260420T105635
CREATED:20210831T032321Z
LAST-MODIFIED:20210831T032321Z
UID:10000058-1631750400-1631836799@www.rodephsholomschool.org
SUMMARY:Yom Kippur
DESCRIPTION:
URL:https://www.rodephsholomschool.org/event/yom-kippur-2/
END:VEVENT
BEGIN:VEVENT
DTSTART;VALUE=DATE:20210916
DTEND;VALUE=DATE:20210917
DTSTAMP:20260420T105635
CREATED:20210831T032321Z
LAST-MODIFIED:20210831T032321Z
UID:10000021-1631750400-1631836799@www.rodephsholomschool.org
SUMMARY:Yom Kippur
DESCRIPTION:
URL:https://www.rodephsholomschool.org/event/yom-kippur/
END:VEVENT
BEGIN:VEVENT
DTSTART;TZID=UTC:20210915T080000
DTEND;TZID=UTC:20210915T170000
DTSTAMP:20260420T105635
CREATED:20210823T160014Z
LAST-MODIFIED:20210823T160014Z
UID:10000047-1631692800-1631725200@www.rodephsholomschool.org
SUMMARY:Half Day - Yom Kippur
DESCRIPTION:
URL:https://www.rodephsholomschool.org/event/half-day-yom-kippur-2/
END:VEVENT
BEGIN:VEVENT
DTSTART;TZID=UTC:20210915T080000
DTEND;TZID=UTC:20210915T170000
DTSTAMP:20260420T105635
CREATED:20210823T160014Z
LAST-MODIFIED:20210823T160014Z
UID:10000010-1631692800-1631725200@www.rodephsholomschool.org
SUMMARY:Half Day - Yom Kippur
DESCRIPTION:
URL:https://www.rodephsholomschool.org/event/half-day-yom-kippur/
END:VEVENT
BEGIN:VEVENT
DTSTART;TZID=UTC:20210909T080000
DTEND;TZID=UTC:20210909T170000
DTSTAMP:20260420T105635
CREATED:20210823T155945Z
LAST-MODIFIED:20210823T155945Z
UID:10000046-1631174400-1631206800@www.rodephsholomschool.org
SUMMARY:First day of school
DESCRIPTION:
URL:https://www.rodephsholomschool.org/event/first-day-of-school-4/
END:VEVENT
BEGIN:VEVENT
DTSTART;TZID=UTC:20210909T080000
DTEND;TZID=UTC:20210909T170000
DTSTAMP:20260420T105635
CREATED:20210823T155945Z
LAST-MODIFIED:20210823T155945Z
UID:10000009-1631174400-1631206800@www.rodephsholomschool.org
SUMMARY:First day of school
DESCRIPTION:
URL:https://www.rodephsholomschool.org/event/first-day-of-school/
END:VEVENT
BEGIN:VEVENT
DTSTART;TZID=UTC:20210909T080000
DTEND;TZID=UTC:20210909T170000
DTSTAMP:20260420T105635
CREATED:20210823T165903Z
LAST-MODIFIED:20210823T165903Z
UID:10000049-1631174400-1631206800@www.rodephsholomschool.org
SUMMARY:First day of school
DESCRIPTION:
URL:https://www.rodephsholomschool.org/event/first-day-of-school-2-2/
END:VEVENT
END:VCALENDAR