BEGIN:VCALENDAR
VERSION:2.0
PRODID:-//Rodeph Sholom School - UWS Private Jewish Day School - ECPv6.15.18//NONSGML v1.0//EN
CALSCALE:GREGORIAN
METHOD:PUBLISH
X-WR-CALNAME:Rodeph Sholom School - UWS Private Jewish Day School
X-ORIGINAL-URL:https://www.rodephsholomschool.org
X-WR-CALDESC:Events for Rodeph Sholom School - UWS Private Jewish Day School
REFRESH-INTERVAL;VALUE=DURATION:PT1H
X-Robots-Tag:noindex
X-PUBLISHED-TTL:PT1H
BEGIN:VTIMEZONE
TZID:UTC
BEGIN:STANDARD
TZOFFSETFROM:+0000
TZOFFSETTO:+0000
TZNAME:UTC
DTSTART:20210101T000000
END:STANDARD
END:VTIMEZONE
BEGIN:VEVENT
DTSTART;TZID=UTC:20220906T080000
DTEND;TZID=UTC:20220906T153000
DTSTAMP:20260420T072854
CREATED:20220715T203157Z
LAST-MODIFIED:20220715T203157Z
UID:10000033-1662451200-1662478200@www.rodephsholomschool.org
SUMMARY:First Day of School
DESCRIPTION:
URL:https://www.rodephsholomschool.org/event/first-day-of-school-3/
LOCATION:Rodeph Sholom School Elementary & Middle School\, 168 W 79th St.\, New York City\, New York\, 10024
CATEGORIES:Academic Calendar
END:VEVENT
BEGIN:VEVENT
DTSTART;TZID=UTC:20220830T163000
DTEND;TZID=UTC:20220830T163000
DTSTAMP:20260420T072854
CREATED:20220829T120000Z
LAST-MODIFIED:20220829T120000Z
UID:10000071-1661877000-1661877000@www.rodephsholomschool.org
SUMMARY:Virtual Independent School Fair with Kindergarten Admissions Panel
DESCRIPTION:Join us at 4:30 pm to learn more about what The Rodeph Sholom School can offer your child and family! Register here: letstalkschools.com/2022schoolfair/
URL:https://www.rodephsholomschool.org/event/virtual-independent-school-fair-with-kindergarten-admissions-panel-2/
CATEGORIES:Admissions
ATTACH;FMTTYPE=:
END:VEVENT
BEGIN:VEVENT
DTSTART;TZID=UTC:20220830T163000
DTEND;TZID=UTC:20220830T163000
DTSTAMP:20260420T072854
CREATED:20220829T120000Z
LAST-MODIFIED:20220829T120000Z
UID:10000034-1661877000-1661877000@www.rodephsholomschool.org
SUMMARY:Virtual Independent School Fair with Kindergarten Admissions Panel
DESCRIPTION:Join us at 4:30 pm to learn more about what The Rodeph Sholom School can offer your child and family! Register here: letstalkschools.com/2022schoolfair/
URL:https://www.rodephsholomschool.org/event/virtual-independent-school-fair-with-kindergarten-admissions-panel/
CATEGORIES:Admissions
ATTACH;FMTTYPE=:
END:VEVENT
BEGIN:VEVENT
DTSTART;VALUE=DATE:20220620
DTEND;VALUE=DATE:20220623
DTSTAMP:20260420T072854
CREATED:20210823T170632Z
LAST-MODIFIED:20210823T170632Z
UID:10000056-1655683200-1655942399@www.rodephsholomschool.org
SUMMARY:Faculty work day
DESCRIPTION:
URL:https://www.rodephsholomschool.org/event/faculty-work-day-2/
END:VEVENT
BEGIN:VEVENT
DTSTART;VALUE=DATE:20220620
DTEND;VALUE=DATE:20220623
DTSTAMP:20260420T072854
CREATED:20210823T170632Z
LAST-MODIFIED:20210823T170632Z
UID:10000019-1655683200-1655942399@www.rodephsholomschool.org
SUMMARY:Faculty work day
DESCRIPTION:
URL:https://www.rodephsholomschool.org/event/faculty-work-day/
END:VEVENT
BEGIN:VEVENT
DTSTART;TZID=UTC:20220617T080000
DTEND;TZID=UTC:20220617T170000
DTSTAMP:20260420T072854
CREATED:20210823T170532Z
LAST-MODIFIED:20210823T170532Z
UID:10000053-1655452800-1655485200@www.rodephsholomschool.org
SUMMARY:8th Grade Graduation
DESCRIPTION:
URL:https://www.rodephsholomschool.org/event/8th-grade-graduation-2/
END:VEVENT
BEGIN:VEVENT
DTSTART;TZID=UTC:20220617T080000
DTEND;TZID=UTC:20220617T170000
DTSTAMP:20260420T072854
CREATED:20210823T170532Z
LAST-MODIFIED:20210823T170532Z
UID:10000016-1655452800-1655485200@www.rodephsholomschool.org
SUMMARY:8th Grade Graduation
DESCRIPTION:
URL:https://www.rodephsholomschool.org/event/8th-grade-graduation/
END:VEVENT
BEGIN:VEVENT
DTSTART;VALUE=DATE:20220604
DTEND;VALUE=DATE:20220607
DTSTAMP:20260420T072854
CREATED:20210831T032907Z
LAST-MODIFIED:20210831T032907Z
UID:10000068-1654300800-1654559999@www.rodephsholomschool.org
SUMMARY:Shavuot
DESCRIPTION:
URL:https://www.rodephsholomschool.org/event/shavuot-2/
END:VEVENT
BEGIN:VEVENT
DTSTART;VALUE=DATE:20220604
DTEND;VALUE=DATE:20220607
DTSTAMP:20260420T072854
CREATED:20210831T032907Z
LAST-MODIFIED:20210831T032907Z
UID:10000031-1654300800-1654559999@www.rodephsholomschool.org
SUMMARY:Shavuot
DESCRIPTION:
URL:https://www.rodephsholomschool.org/event/shavuot/
END:VEVENT
BEGIN:VEVENT
DTSTART;VALUE=DATE:20220519
DTEND;VALUE=DATE:20220520
DTSTAMP:20260420T072854
CREATED:20210831T032846Z
LAST-MODIFIED:20210831T032846Z
UID:10000067-1652918400-1653004799@www.rodephsholomschool.org
SUMMARY:Lag B’omer
DESCRIPTION:
URL:https://www.rodephsholomschool.org/event/lag-bomer-2/
END:VEVENT
BEGIN:VEVENT
DTSTART;VALUE=DATE:20220519
DTEND;VALUE=DATE:20220520
DTSTAMP:20260420T072854
CREATED:20210831T032846Z
LAST-MODIFIED:20210831T032846Z
UID:10000030-1652918400-1653004799@www.rodephsholomschool.org
SUMMARY:Lag B’omer
DESCRIPTION:
URL:https://www.rodephsholomschool.org/event/lag-bomer/
END:VEVENT
BEGIN:VEVENT
DTSTART;TZID=UTC:20220512T090000
DTEND;TZID=UTC:20220513T220000
DTSTAMP:20260420T072854
CREATED:20220506T233334Z
LAST-MODIFIED:20220506T233334Z
UID:10000069-1652346000-1652479200@www.rodephsholomschool.org
SUMMARY:Kindergarten Open House
DESCRIPTION:
URL:https://www.rodephsholomschool.org/event/kindergarten-open-house-2/
LOCATION:Rodeph Sholom School Early Childhood Division\, 10 W. 84th St\, New York\, NY\, 10024\, United States
CATEGORIES:Admissions
ORGANIZER;CN="Admissions":MAILTO:admissions@rssnyc.org
END:VEVENT
BEGIN:VEVENT
DTSTART;TZID=UTC:20220512T090000
DTEND;TZID=UTC:20220513T220000
DTSTAMP:20260420T072854
CREATED:20220506T233334Z
LAST-MODIFIED:20220506T233334Z
UID:10000032-1652346000-1652479200@www.rodephsholomschool.org
SUMMARY:Kindergarten Open House
DESCRIPTION:
URL:https://www.rodephsholomschool.org/event/kindergarten-open-house/
LOCATION:Rodeph Sholom School Early Childhood Division\, 10 W. 84th St\, New York\, NY\, 10024\, United States
CATEGORIES:Admissions
ORGANIZER;CN="Admissions":MAILTO:admissions@rssnyc.org
END:VEVENT
BEGIN:VEVENT
DTSTART;VALUE=DATE:20220505
DTEND;VALUE=DATE:20220506
DTSTAMP:20260420T072854
CREATED:20210831T032827Z
LAST-MODIFIED:20210831T032827Z
UID:10000066-1651708800-1651795199@www.rodephsholomschool.org
SUMMARY:Yom Haatzmaut
DESCRIPTION:
URL:https://www.rodephsholomschool.org/event/yom-haatzmaut-2/
END:VEVENT
BEGIN:VEVENT
DTSTART;VALUE=DATE:20220505
DTEND;VALUE=DATE:20220506
DTSTAMP:20260420T072854
CREATED:20210831T032827Z
LAST-MODIFIED:20210831T032827Z
UID:10000029-1651708800-1651795199@www.rodephsholomschool.org
SUMMARY:Yom Haatzmaut
DESCRIPTION:
URL:https://www.rodephsholomschool.org/event/yom-haatzmaut/
END:VEVENT
BEGIN:VEVENT
DTSTART;VALUE=DATE:20220504
DTEND;VALUE=DATE:20220505
DTSTAMP:20260420T072854
CREATED:20210831T032803Z
LAST-MODIFIED:20210831T032803Z
UID:10000065-1651622400-1651708799@www.rodephsholomschool.org
SUMMARY:Yom Hazikaron
DESCRIPTION:
URL:https://www.rodephsholomschool.org/event/yom-hazikaron-2/
END:VEVENT
BEGIN:VEVENT
DTSTART;VALUE=DATE:20220504
DTEND;VALUE=DATE:20220505
DTSTAMP:20260420T072854
CREATED:20210831T032803Z
LAST-MODIFIED:20210831T032803Z
UID:10000028-1651622400-1651708799@www.rodephsholomschool.org
SUMMARY:Yom Hazikaron
DESCRIPTION:
URL:https://www.rodephsholomschool.org/event/yom-hazikaron/
END:VEVENT
BEGIN:VEVENT
DTSTART;VALUE=DATE:20220428
DTEND;VALUE=DATE:20220429
DTSTAMP:20260420T072854
CREATED:20210831T032735Z
LAST-MODIFIED:20210831T032735Z
UID:10000064-1651104000-1651190399@www.rodephsholomschool.org
SUMMARY:Yom Hashoah
DESCRIPTION:
URL:https://www.rodephsholomschool.org/event/yom-hashoah-2/
END:VEVENT
BEGIN:VEVENT
DTSTART;VALUE=DATE:20220428
DTEND;VALUE=DATE:20220429
DTSTAMP:20260420T072854
CREATED:20210831T032735Z
LAST-MODIFIED:20210831T032735Z
UID:10000027-1651104000-1651190399@www.rodephsholomschool.org
SUMMARY:Yom Hashoah
DESCRIPTION:
URL:https://www.rodephsholomschool.org/event/yom-hashoah/
END:VEVENT
BEGIN:VEVENT
DTSTART;VALUE=DATE:20220415
DTEND;VALUE=DATE:20220424
DTSTAMP:20260420T072854
CREATED:20210831T032705Z
LAST-MODIFIED:20210831T032705Z
UID:10000063-1649980800-1650758399@www.rodephsholomschool.org
SUMMARY:Passover
DESCRIPTION:
URL:https://www.rodephsholomschool.org/event/passover-2/
END:VEVENT
BEGIN:VEVENT
DTSTART;VALUE=DATE:20220415
DTEND;VALUE=DATE:20220424
DTSTAMP:20260420T072854
CREATED:20210831T032705Z
LAST-MODIFIED:20210831T032705Z
UID:10000026-1649980800-1650758399@www.rodephsholomschool.org
SUMMARY:Passover
DESCRIPTION:
URL:https://www.rodephsholomschool.org/event/passover/
END:VEVENT
BEGIN:VEVENT
DTSTART;TZID=UTC:20220317T080000
DTEND;TZID=UTC:20220317T170000
DTSTAMP:20260420T072854
CREATED:20210831T032634Z
LAST-MODIFIED:20210831T032634Z
UID:10000062-1647504000-1647536400@www.rodephsholomschool.org
SUMMARY:Purim
DESCRIPTION:
URL:https://www.rodephsholomschool.org/event/purim-2/
END:VEVENT
BEGIN:VEVENT
DTSTART;TZID=UTC:20220317T080000
DTEND;TZID=UTC:20220317T170000
DTSTAMP:20260420T072854
CREATED:20210831T032634Z
LAST-MODIFIED:20210831T032634Z
UID:10000025-1647504000-1647536400@www.rodephsholomschool.org
SUMMARY:Purim
DESCRIPTION:
URL:https://www.rodephsholomschool.org/event/purim/
END:VEVENT
BEGIN:VEVENT
DTSTART;TZID=UTC:20220218T080000
DTEND;TZID=UTC:20220218T170000
DTSTAMP:20260420T072854
CREATED:20210823T170608Z
LAST-MODIFIED:20210823T170608Z
UID:10000055-1645171200-1645203600@www.rodephsholomschool.org
SUMMARY:Regular dismissal - February Break
DESCRIPTION:
URL:https://www.rodephsholomschool.org/event/regular-dismissal-february-break-2/
END:VEVENT
BEGIN:VEVENT
DTSTART;TZID=UTC:20220218T080000
DTEND;TZID=UTC:20220218T170000
DTSTAMP:20260420T072854
CREATED:20210823T170608Z
LAST-MODIFIED:20210823T170608Z
UID:10000018-1645171200-1645203600@www.rodephsholomschool.org
SUMMARY:Regular dismissal - February Break
DESCRIPTION:
URL:https://www.rodephsholomschool.org/event/regular-dismissal-february-break/
END:VEVENT
BEGIN:VEVENT
DTSTART;TZID=UTC:20220118T080000
DTEND;TZID=UTC:20220118T170000
DTSTAMP:20260420T072854
CREATED:20210823T170511Z
LAST-MODIFIED:20210823T170511Z
UID:10000052-1642492800-1642525200@www.rodephsholomschool.org
SUMMARY:School Closed - Faculty Professional Development Day
DESCRIPTION:
URL:https://www.rodephsholomschool.org/event/school-closed-faculty-professional-development-day-2/
END:VEVENT
BEGIN:VEVENT
DTSTART;TZID=UTC:20220118T080000
DTEND;TZID=UTC:20220118T170000
DTSTAMP:20260420T072854
CREATED:20210823T170511Z
LAST-MODIFIED:20210823T170511Z
UID:10000015-1642492800-1642525200@www.rodephsholomschool.org
SUMMARY:School Closed - Faculty Professional Development Day
DESCRIPTION:
URL:https://www.rodephsholomschool.org/event/school-closed-faculty-professional-development-day/
END:VEVENT
BEGIN:VEVENT
DTSTART;TZID=UTC:20220117T080000
DTEND;TZID=UTC:20220117T170000
DTSTAMP:20260420T072854
CREATED:20210823T170341Z
LAST-MODIFIED:20210823T170341Z
UID:10000050-1642406400-1642438800@www.rodephsholomschool.org
SUMMARY:School Closed - MLK Jr. Day (Tu BiShvat)
DESCRIPTION:
URL:https://www.rodephsholomschool.org/event/school-closed-mlk-jr-day-tu-bishvat-2/
END:VEVENT
BEGIN:VEVENT
DTSTART;TZID=UTC:20220117T080000
DTEND;TZID=UTC:20220117T170000
DTSTAMP:20260420T072854
CREATED:20210823T170341Z
LAST-MODIFIED:20210823T170341Z
UID:10000013-1642406400-1642438800@www.rodephsholomschool.org
SUMMARY:School Closed - MLK Jr. Day (Tu BiShvat)
DESCRIPTION:
URL:https://www.rodephsholomschool.org/event/school-closed-mlk-jr-day-tu-bishvat/
END:VEVENT
BEGIN:VEVENT
DTSTART;VALUE=DATE:20220117
DTEND;VALUE=DATE:20220118
DTSTAMP:20260420T072854
CREATED:20210831T032609Z
LAST-MODIFIED:20210831T032609Z
UID:10000061-1642377600-1642463999@www.rodephsholomschool.org
SUMMARY:Tu BiShvat
DESCRIPTION:
URL:https://www.rodephsholomschool.org/event/tu-bishvat-2/
END:VEVENT
END:VCALENDAR