BEGIN:VCALENDAR
VERSION:2.0
PRODID:-//Rodeph Sholom School - UWS Private Jewish Day School - ECPv6.15.18//NONSGML v1.0//EN
CALSCALE:GREGORIAN
METHOD:PUBLISH
X-WR-CALNAME:Rodeph Sholom School - UWS Private Jewish Day School
X-ORIGINAL-URL:https://www.rodephsholomschool.org
X-WR-CALDESC:Events for Rodeph Sholom School - UWS Private Jewish Day School
REFRESH-INTERVAL;VALUE=DURATION:PT1H
X-Robots-Tag:noindex
X-PUBLISHED-TTL:PT1H
BEGIN:VTIMEZONE
TZID:America/New_York
BEGIN:DAYLIGHT
TZOFFSETFROM:-0500
TZOFFSETTO:-0400
TZNAME:EDT
DTSTART:20230312T070000
END:DAYLIGHT
BEGIN:STANDARD
TZOFFSETFROM:-0400
TZOFFSETTO:-0500
TZNAME:EST
DTSTART:20231105T060000
END:STANDARD
BEGIN:DAYLIGHT
TZOFFSETFROM:-0500
TZOFFSETTO:-0400
TZNAME:EDT
DTSTART:20240310T070000
END:DAYLIGHT
BEGIN:STANDARD
TZOFFSETFROM:-0400
TZOFFSETTO:-0500
TZNAME:EST
DTSTART:20241103T060000
END:STANDARD
BEGIN:DAYLIGHT
TZOFFSETFROM:-0500
TZOFFSETTO:-0400
TZNAME:EDT
DTSTART:20250309T070000
END:DAYLIGHT
BEGIN:STANDARD
TZOFFSETFROM:-0400
TZOFFSETTO:-0500
TZNAME:EST
DTSTART:20251102T060000
END:STANDARD
END:VTIMEZONE
BEGIN:VEVENT
DTSTART;VALUE=DATE:20240903
DTEND;VALUE=DATE:20240904
DTSTAMP:20260421T071628
CREATED:20240710T172552Z
LAST-MODIFIED:20240823T132017Z
UID:10000409-1725321600-1725407999@www.rodephsholomschool.org
SUMMARY:OPENING DAY: 1st - 8th Grade
DESCRIPTION:
URL:https://www.rodephsholomschool.org/event/opening-day-1st-8th-grade/
CATEGORIES:Academic Calendar,Elementary Division,Middle School Division
END:VEVENT
BEGIN:VEVENT
DTSTART;VALUE=DATE:20240904
DTEND;VALUE=DATE:20240905
DTSTAMP:20260421T071628
CREATED:20240710T173827Z
LAST-MODIFIED:20240822T202425Z
UID:10000412-1725408000-1725494399@www.rodephsholomschool.org
SUMMARY:Pre-K & K Phase-in begins
DESCRIPTION:
URL:https://www.rodephsholomschool.org/event/pre-k-k-phase-in/
CATEGORIES:Academic Calendar,Early Childhood Division
END:VEVENT
BEGIN:VEVENT
DTSTART;VALUE=DATE:20240920
DTEND;VALUE=DATE:20240921
DTSTAMP:20260421T071628
CREATED:20240710T180224Z
LAST-MODIFIED:20240823T134655Z
UID:10000415-1726790400-1726876799@www.rodephsholomschool.org
SUMMARY:ALL SCHOOL SHABBAT (am)
DESCRIPTION:
URL:https://www.rodephsholomschool.org/event/all-school-shabbat-4/
LOCATION:Congregation Rodeph Sholom\, 7 West 83rd Street\, New York\, NY\, 10024\, United States
CATEGORIES:Academic Calendar
ATTACH;FMTTYPE=image/jpeg:https://www.rodephsholomschool.org/wp-content/uploads/2024/07/DSC04738-1-scaled.jpg
END:VEVENT
END:VCALENDAR